BEGIN:VCALENDAR
VERSION:2.0
PRODID:-//www.backpewbrewing.com - ECPv6.15.20//NONSGML v1.0//EN
CALSCALE:GREGORIAN
METHOD:PUBLISH
X-WR-CALNAME:www.backpewbrewing.com
X-ORIGINAL-URL:https://www.backpewbrewing.com
X-WR-CALDESC:Events for www.backpewbrewing.com
REFRESH-INTERVAL;VALUE=DURATION:PT1H
X-Robots-Tag:noindex
X-PUBLISHED-TTL:PT1H
BEGIN:VTIMEZONE
TZID:America/Chicago
BEGIN:DAYLIGHT
TZOFFSETFROM:-0600
TZOFFSETTO:-0500
TZNAME:CDT
DTSTART:20210314T080000
END:DAYLIGHT
BEGIN:STANDARD
TZOFFSETFROM:-0500
TZOFFSETTO:-0600
TZNAME:CST
DTSTART:20211107T070000
END:STANDARD
BEGIN:DAYLIGHT
TZOFFSETFROM:-0600
TZOFFSETTO:-0500
TZNAME:CDT
DTSTART:20220313T080000
END:DAYLIGHT
BEGIN:STANDARD
TZOFFSETFROM:-0500
TZOFFSETTO:-0600
TZNAME:CST
DTSTART:20221106T070000
END:STANDARD
BEGIN:DAYLIGHT
TZOFFSETFROM:-0600
TZOFFSETTO:-0500
TZNAME:CDT
DTSTART:20230312T080000
END:DAYLIGHT
BEGIN:STANDARD
TZOFFSETFROM:-0500
TZOFFSETTO:-0600
TZNAME:CST
DTSTART:20231105T070000
END:STANDARD
END:VTIMEZONE
BEGIN:VEVENT
DTSTART;TZID=America/Chicago:20220901T160000
DTEND;TZID=America/Chicago:20220901T220000
DTSTAMP:20260422T145054
CREATED:20220816T233724Z
LAST-MODIFIED:20220816T233724Z
UID:3258-1662048000-1662069600@www.backpewbrewing.com
SUMMARY:Thursday at the Sanctuary
DESCRIPTION:Come out and join us on Thursday 4 – 10 pm. We have awesome cold beer that you can read all about to get your tastebuds ready! \nFood truck: The Rooster \nCheck out the Taproom page for all of the info about the taproom. Cheers!
URL:https://www.backpewbrewing.com/event/thursday-at-the-sanctuary-sept/
LOCATION:Back Pew Brewing\, 26452 Sorters McClellan Rd.\, Porter\, TX\, 77365\, United States
CATEGORIES:Houston Event,taproom,taproom event
ATTACH;FMTTYPE=image/jpeg:https://www.backpewbrewing.com/wp-content/uploads/2021/04/Back-Pew-Time.jpg
END:VEVENT
BEGIN:VEVENT
DTSTART;TZID=America/Chicago:20220902T160000
DTEND;TZID=America/Chicago:20220902T220000
DTSTAMP:20260422T145054
CREATED:20220816T234309Z
LAST-MODIFIED:20220816T234309Z
UID:3268-1662134400-1662156000@www.backpewbrewing.com
SUMMARY:Friday at the Sanctuary: Steak Night
DESCRIPTION:Come out and join us on Friday 4 – 10 pm for Back Pew’s steak night! We’ll have G&G’s Street Grill here ready to serve you up a delicious steak dinner! And of course we’ll have plenty of delicious beer on tap to wash it down. \nFood truck: G&G’s Street Grill \nCheck out the Taproom page for all of the info about the taproom. Cheers!
URL:https://www.backpewbrewing.com/event/steak-night-sept/
LOCATION:Back Pew Brewing\, 26452 Sorters McClellan Rd.\, Porter\, TX\, 77365\, United States
CATEGORIES:Houston Event,taproom,taproom event
ATTACH;FMTTYPE=image/jpeg:https://www.backpewbrewing.com/wp-content/uploads/2022/03/Steak-Night-Instagram.jpg
END:VEVENT
BEGIN:VEVENT
DTSTART;TZID=America/Chicago:20220903T120000
DTEND;TZID=America/Chicago:20220903T190000
DTSTAMP:20260422T145054
CREATED:20220901T001541Z
LAST-MODIFIED:20220901T001541Z
UID:3302-1662206400-1662231600@www.backpewbrewing.com
SUMMARY:Saturday at The Sanctuary
DESCRIPTION:Come enjoy another fun-filled day at The Sanctuary! We have delicious\, cold beer\, live music\, and a playground for the kiddos. \nFood Truck: L&D BBQ \nLive Music: 100 Proof (2-6 PM) \nCheck out our Taproom page for all the info on prices and how the taproom works. Cheers!
URL:https://www.backpewbrewing.com/event/saturday-at-bpb-sept-2/
LOCATION:Back Pew Brewing\, 26452 Sorters McClellan Rd.\, Porter\, TX\, 77365\, United States
CATEGORIES:taproom
ATTACH;FMTTYPE=image/jpeg:https://www.backpewbrewing.com/wp-content/uploads/2021/01/Friday-at-BPB.jpg
END:VEVENT
BEGIN:VEVENT
DTSTART;TZID=America/Chicago:20220904T120000
DTEND;TZID=America/Chicago:20220904T190000
DTSTAMP:20260422T145054
CREATED:20220816T231022Z
LAST-MODIFIED:20220816T231022Z
UID:3239-1662292800-1662318000@www.backpewbrewing.com
SUMMARY:Sunday at The Sanctuary
DESCRIPTION:Come and close out the weekend right! Join us at The Sanctuary from 12pm – 7pm. We have delicious cold beer\, TV screens\, and a playground for the kiddos. \nFood Truck: Divine Dogs \nPlease see our Taproom page for all the info you’ll need.
URL:https://www.backpewbrewing.com/event/sunday-at-the-sanctuary-sept/
LOCATION:Back Pew Brewing\, 26452 Sorters McClellan Rd.\, Porter\, TX\, 77365\, United States
CATEGORIES:taproom
ATTACH;FMTTYPE=image/jpeg:https://www.backpewbrewing.com/wp-content/uploads/2021/01/Sunday-at-BPB.jpg
END:VEVENT
BEGIN:VEVENT
DTSTART;TZID=America/Chicago:20220908T160000
DTEND;TZID=America/Chicago:20220908T220000
DTSTAMP:20260422T145054
CREATED:20220816T234001Z
LAST-MODIFIED:20220816T234001Z
UID:3260-1662652800-1662674400@www.backpewbrewing.com
SUMMARY:Thursday at the Sanctuary
DESCRIPTION:Come out and join us on Thursday 4 – 10 pm. We have awesome cold beer that you can read all about to get your tastebuds ready! \nFood truck: TBD \nCheck out the Taproom page for all of the info about the taproom. Cheers!
URL:https://www.backpewbrewing.com/event/thursday-at-the-sanctuary-sept-2/
LOCATION:Back Pew Brewing\, 26452 Sorters McClellan Rd.\, Porter\, TX\, 77365\, United States
CATEGORIES:Houston Event,taproom,taproom event
ATTACH;FMTTYPE=image/jpeg:https://www.backpewbrewing.com/wp-content/uploads/2021/04/Back-Pew-Time.jpg
END:VEVENT
BEGIN:VEVENT
DTSTART;TZID=America/Chicago:20220909T160000
DTEND;TZID=America/Chicago:20220909T220000
DTSTAMP:20260422T145054
CREATED:20220901T000416Z
LAST-MODIFIED:20220901T000416Z
UID:3293-1662739200-1662760800@www.backpewbrewing.com
SUMMARY:Friday at the Sanctuary
DESCRIPTION:Come out and join us on Friday 4 – 10 pm. We have awesome cold beer that you can read all about to get your tastebuds ready! \nFood truck: G&G’s Street Grill \nCheck out the Taproom page for all of the info about the taproom. Cheers!
URL:https://www.backpewbrewing.com/event/friday-at-the-sanctuary-sept/
LOCATION:Back Pew Brewing\, 26452 Sorters McClellan Rd.\, Porter\, TX\, 77365\, United States
CATEGORIES:Houston Event,taproom,taproom event
ATTACH;FMTTYPE=image/jpeg:https://www.backpewbrewing.com/wp-content/uploads/2021/04/Back-Pew-Time.jpg
END:VEVENT
BEGIN:VEVENT
DTSTART;TZID=America/Chicago:20220910T120000
DTEND;TZID=America/Chicago:20220910T190000
DTSTAMP:20260422T145054
CREATED:20220816T234513Z
LAST-MODIFIED:20220816T234513Z
UID:3270-1662811200-1662836400@www.backpewbrewing.com
SUMMARY:Saturday at The Sanctuary: Back Pew Market
DESCRIPTION:It’s Back Pew Market Day! Come out to get some shopping done\, and enjoy some great food\, delicious\, cold beer\, live music\, and a playground for the kiddos. Interested in becoming a vendor at our market? Get in touch with Kingwood Farmers Market here \nFood Truck: TBD \nLive Music: The Little Rascals (2-6 PM) \nCheck out our Taproom page for all the info on prices and how the taproom works. Cheers!
URL:https://www.backpewbrewing.com/event/saturday-at-bpb-sept-mkt-2/
LOCATION:Back Pew Brewing\, 26452 Sorters McClellan Rd.\, Porter\, TX\, 77365\, United States
CATEGORIES:taproom
ATTACH;FMTTYPE=image/jpeg:https://www.backpewbrewing.com/wp-content/uploads/2022/04/market.jpg
END:VEVENT
BEGIN:VEVENT
DTSTART;TZID=America/Chicago:20220911T120000
DTEND;TZID=America/Chicago:20220911T190000
DTSTAMP:20260422T145054
CREATED:20220816T231050Z
LAST-MODIFIED:20220816T231050Z
UID:3244-1662897600-1662922800@www.backpewbrewing.com
SUMMARY:Sunday at The Sanctuary
DESCRIPTION:Come and close out the weekend right! Join us at The Sanctuary from 12pm – 7pm. We have delicious cold beer\, TV screens\, and a playground for the kiddos. \nFood Truck: Divine Dogs \nPlease see our Taproom page for all the info you’ll need.
URL:https://www.backpewbrewing.com/event/sunday-at-the-sanctuary-sept-2/
LOCATION:Back Pew Brewing\, 26452 Sorters McClellan Rd.\, Porter\, TX\, 77365\, United States
CATEGORIES:taproom
ATTACH;FMTTYPE=image/jpeg:https://www.backpewbrewing.com/wp-content/uploads/2021/01/Sunday-at-BPB.jpg
END:VEVENT
BEGIN:VEVENT
DTSTART;TZID=America/Chicago:20220915T160000
DTEND;TZID=America/Chicago:20220915T220000
DTSTAMP:20260422T145054
CREATED:20220816T234049Z
LAST-MODIFIED:20220816T234049Z
UID:3262-1663257600-1663279200@www.backpewbrewing.com
SUMMARY:Thursday at the Sanctuary
DESCRIPTION:Come out and join us on Thursday 4 – 10 pm. We have awesome cold beer that you can read all about to get your tastebuds ready! \nFood truck: TBD \nCheck out the Taproom page for all of the info about the taproom. Cheers!
URL:https://www.backpewbrewing.com/event/thursday-at-the-sanctuary-sept-2-2/
LOCATION:Back Pew Brewing\, 26452 Sorters McClellan Rd.\, Porter\, TX\, 77365\, United States
CATEGORIES:Houston Event,taproom,taproom event
ATTACH;FMTTYPE=image/jpeg:https://www.backpewbrewing.com/wp-content/uploads/2021/04/Back-Pew-Time.jpg
END:VEVENT
BEGIN:VEVENT
DTSTART;TZID=America/Chicago:20220916T160000
DTEND;TZID=America/Chicago:20220916T223000
DTSTAMP:20260422T145054
CREATED:20210123T001228Z
LAST-MODIFIED:20220816T232104Z
UID:2134-1663344000-1663367400@www.backpewbrewing.com
SUMMARY:Concert Night: Already Gone
DESCRIPTION:Come out to see the amazing Already Gone\, and Eagles Tribute Band\, as they take the Back Pew stage! \nDoors Open: 4pm \nCover: $10 \nConcert: 7:30 – 10:30 (last call 10:20pm) \nFood Trucks: Rooster and Refill Station \nCheck out the Taproom page for all the info you need on what we’re pouring and what you need to know! \n 
URL:https://www.backpewbrewing.com/event/concert-night-already-gone-sept/
LOCATION:TX
CATEGORIES:Concert
ATTACH;FMTTYPE=image/jpeg:https://www.backpewbrewing.com/wp-content/uploads/2021/01/Already-Gone.jpg
END:VEVENT
BEGIN:VEVENT
DTSTART;TZID=America/Chicago:20220917T120000
DTEND;TZID=America/Chicago:20220917T190000
DTSTAMP:20260422T145054
CREATED:20220901T001001Z
LAST-MODIFIED:20220901T001206Z
UID:3299-1663416000-1663441200@www.backpewbrewing.com
SUMMARY:Saturday at The Sanctuary
DESCRIPTION:Come enjoy another fun-filled day at The Sanctuary! We have delicious\, cold beer\, live music\, and a playground for the kiddos. \nFood Truck: G&G’s Street Grill \nLive Music: Joel’s Garage Band (2-6 PM) \nCheck out our Taproom page for all the info on prices and how the taproom works. Cheers!
URL:https://www.backpewbrewing.com/event/saturday-at-bpb-sept/
LOCATION:Back Pew Brewing\, 26452 Sorters McClellan Rd.\, Porter\, TX\, 77365\, United States
CATEGORIES:taproom
ATTACH;FMTTYPE=image/jpeg:https://www.backpewbrewing.com/wp-content/uploads/2021/01/Friday-at-BPB.jpg
END:VEVENT
BEGIN:VEVENT
DTSTART;TZID=America/Chicago:20220918T120000
DTEND;TZID=America/Chicago:20220918T190000
DTSTAMP:20260422T145054
CREATED:20220816T231116Z
LAST-MODIFIED:20220816T231116Z
UID:3246-1663502400-1663527600@www.backpewbrewing.com
SUMMARY:Sunday at The Sanctuary
DESCRIPTION:Come and close out the weekend right! Join us at The Sanctuary from 12pm – 7pm. We have delicious cold beer\, TV screens\, and a playground for the kiddos. \nFood Truck: Divine Dogs \nPlease see our Taproom page for all the info you’ll need.
URL:https://www.backpewbrewing.com/event/sunday-at-the-sanctuary-sept-2-2/
LOCATION:Back Pew Brewing\, 26452 Sorters McClellan Rd.\, Porter\, TX\, 77365\, United States
CATEGORIES:taproom
ATTACH;FMTTYPE=image/jpeg:https://www.backpewbrewing.com/wp-content/uploads/2021/01/Sunday-at-BPB.jpg
END:VEVENT
BEGIN:VEVENT
DTSTART;TZID=America/Chicago:20220922T160000
DTEND;TZID=America/Chicago:20220922T220000
DTSTAMP:20260422T145054
CREATED:20220816T234123Z
LAST-MODIFIED:20220816T234123Z
UID:3264-1663862400-1663884000@www.backpewbrewing.com
SUMMARY:Thursday at the Sanctuary
DESCRIPTION:Come out and join us on Thursday 4 – 10 pm. We have awesome cold beer that you can read all about to get your tastebuds ready! \nFood truck: TBD \nCheck out the Taproom page for all of the info about the taproom. Cheers!
URL:https://www.backpewbrewing.com/event/thursday-at-the-sanctuary-sept-2-2-2/
LOCATION:Back Pew Brewing\, 26452 Sorters McClellan Rd.\, Porter\, TX\, 77365\, United States
CATEGORIES:Houston Event,taproom,taproom event
ATTACH;FMTTYPE=image/jpeg:https://www.backpewbrewing.com/wp-content/uploads/2021/04/Back-Pew-Time.jpg
END:VEVENT
BEGIN:VEVENT
DTSTART;TZID=America/Chicago:20220923T160000
DTEND;TZID=America/Chicago:20220923T220000
DTSTAMP:20260422T145054
CREATED:20220901T000528Z
LAST-MODIFIED:20220901T000528Z
UID:3295-1663948800-1663970400@www.backpewbrewing.com
SUMMARY:Friday at the Sanctuary
DESCRIPTION:Come out and join us on Friday 4 – 10 pm. We have awesome cold beer that you can read all about to get your tastebuds ready! \nFood truck: TBD – Check our social media for the latest updates \nCheck out the Taproom page for all of the info about the taproom. Cheers!
URL:https://www.backpewbrewing.com/event/friday-at-the-sanctuary-sept-2/
LOCATION:Back Pew Brewing\, 26452 Sorters McClellan Rd.\, Porter\, TX\, 77365\, United States
CATEGORIES:Houston Event,taproom,taproom event
ATTACH;FMTTYPE=image/jpeg:https://www.backpewbrewing.com/wp-content/uploads/2021/04/Back-Pew-Time.jpg
END:VEVENT
BEGIN:VEVENT
DTSTART;TZID=America/Chicago:20220924T120000
DTEND;TZID=America/Chicago:20220924T190000
DTSTAMP:20260422T145054
CREATED:20220901T001735Z
LAST-MODIFIED:20220901T001735Z
UID:3304-1664020800-1664046000@www.backpewbrewing.com
SUMMARY:Saturday at The Sanctuary
DESCRIPTION:Come enjoy another fun-filled day at The Sanctuary! We have delicious\, cold beer\, live music\, and a playground for the kiddos. \nFood Truck: TBD – Check out our social media pages for the latest updates! \nLive Music: Wheeple (2-6 PM) \nCheck out our Taproom page for all the info on prices and how the taproom works. Cheers!
URL:https://www.backpewbrewing.com/event/saturday-at-bpb-sept-2-2/
LOCATION:Back Pew Brewing\, 26452 Sorters McClellan Rd.\, Porter\, TX\, 77365\, United States
CATEGORIES:taproom
ATTACH;FMTTYPE=image/jpeg:https://www.backpewbrewing.com/wp-content/uploads/2021/01/Friday-at-BPB.jpg
END:VEVENT
BEGIN:VEVENT
DTSTART;TZID=America/Chicago:20220925T120000
DTEND;TZID=America/Chicago:20220925T190000
DTSTAMP:20260422T145054
CREATED:20220816T231144Z
LAST-MODIFIED:20220816T231144Z
UID:3248-1664107200-1664132400@www.backpewbrewing.com
SUMMARY:Sunday at The Sanctuary
DESCRIPTION:Come and close out the weekend right! Join us at The Sanctuary from 12pm – 7pm. We have delicious cold beer\, TV screens\, and a playground for the kiddos. \nFood Truck: Divine Dogs \nPlease see our Taproom page for all the info you’ll need.
URL:https://www.backpewbrewing.com/event/sunday-at-the-sanctuary-sept-2-2-2/
LOCATION:Back Pew Brewing\, 26452 Sorters McClellan Rd.\, Porter\, TX\, 77365\, United States
CATEGORIES:taproom
ATTACH;FMTTYPE=image/jpeg:https://www.backpewbrewing.com/wp-content/uploads/2021/01/Sunday-at-BPB.jpg
END:VEVENT
BEGIN:VEVENT
DTSTART;TZID=America/Chicago:20220929T160000
DTEND;TZID=America/Chicago:20220929T220000
DTSTAMP:20260422T145054
CREATED:20220816T234153Z
LAST-MODIFIED:20220924T212046Z
UID:3266-1664467200-1664488800@www.backpewbrewing.com
SUMMARY:Thursday at the Sanctuary
DESCRIPTION:Come out and join us on Thursday 4 – 10 pm. We have awesome cold beer that you can read all about to get your tastebuds ready! \nFood truck: The Rooster \nCheck out the Taproom page for all of the info about the taproom. Cheers!
URL:https://www.backpewbrewing.com/event/thursday-at-the-sanctuary-sept-2-2-2-2/
LOCATION:Back Pew Brewing\, 26452 Sorters McClellan Rd.\, Porter\, TX\, 77365\, United States
CATEGORIES:Houston Event,taproom,taproom event
ATTACH;FMTTYPE=image/jpeg:https://www.backpewbrewing.com/wp-content/uploads/2021/04/Back-Pew-Time.jpg
END:VEVENT
BEGIN:VEVENT
DTSTART;TZID=America/Chicago:20220930T160000
DTEND;TZID=America/Chicago:20220930T220000
DTSTAMP:20260422T145054
CREATED:20220901T000638Z
LAST-MODIFIED:20220924T211425Z
UID:3297-1664553600-1664575200@www.backpewbrewing.com
SUMMARY:Friday at the Sanctuary
DESCRIPTION:Come out and join us on Friday 4 – 10 pm. We have awesome cold beer that you can read all about to get your tastebuds ready! \nFood truck: Tostonio’s \nCheck out the Taproom page for all of the info about the taproom. Cheers!
URL:https://www.backpewbrewing.com/event/friday-at-the-sanctuary-sept-2-2/
LOCATION:Back Pew Brewing\, 26452 Sorters McClellan Rd.\, Porter\, TX\, 77365\, United States
CATEGORIES:Houston Event,taproom,taproom event
ATTACH;FMTTYPE=image/jpeg:https://www.backpewbrewing.com/wp-content/uploads/2021/04/Back-Pew-Time.jpg
END:VEVENT
END:VCALENDAR