BEGIN:VCALENDAR
VERSION:2.0
PRODID:-//www.backpewbrewing.com - ECPv6.15.20//NONSGML v1.0//EN
CALSCALE:GREGORIAN
METHOD:PUBLISH
X-ORIGINAL-URL:https://www.backpewbrewing.com
X-WR-CALDESC:Events for www.backpewbrewing.com
REFRESH-INTERVAL;VALUE=DURATION:PT1H
X-Robots-Tag:noindex
X-PUBLISHED-TTL:PT1H
BEGIN:VTIMEZONE
TZID:America/Chicago
BEGIN:DAYLIGHT
TZOFFSETFROM:-0600
TZOFFSETTO:-0500
TZNAME:CDT
DTSTART:20210314T080000
END:DAYLIGHT
BEGIN:STANDARD
TZOFFSETFROM:-0500
TZOFFSETTO:-0600
TZNAME:CST
DTSTART:20211107T070000
END:STANDARD
BEGIN:DAYLIGHT
TZOFFSETFROM:-0600
TZOFFSETTO:-0500
TZNAME:CDT
DTSTART:20220313T080000
END:DAYLIGHT
BEGIN:STANDARD
TZOFFSETFROM:-0500
TZOFFSETTO:-0600
TZNAME:CST
DTSTART:20221106T070000
END:STANDARD
BEGIN:DAYLIGHT
TZOFFSETFROM:-0600
TZOFFSETTO:-0500
TZNAME:CDT
DTSTART:20230312T080000
END:DAYLIGHT
BEGIN:STANDARD
TZOFFSETFROM:-0500
TZOFFSETTO:-0600
TZNAME:CST
DTSTART:20231105T070000
END:STANDARD
END:VTIMEZONE
BEGIN:VEVENT
DTSTART;TZID=America/Chicago:20220804T160000
DTEND;TZID=America/Chicago:20220804T220000
DTSTAMP:20260422T133106
CREATED:20220731T171243Z
LAST-MODIFIED:20220731T171243Z
UID:3210-1659628800-1659650400@www.backpewbrewing.com
SUMMARY:Thursday at the Sanctuary
DESCRIPTION:Come out and join us on Thursday 4 – 10 pm. We have awesome cold beer that you can read all about to get your tastebuds ready! \nFood truck: Rosalila Urbana \nCheck out the Taproom page for all of the info about the taproom. Cheers!
URL:https://www.backpewbrewing.com/event/thursday-at-the-sanctuary-aug/
LOCATION:Back Pew Brewing\, 26452 Sorters McClellan Rd.\, Porter\, TX\, 77365\, United States
CATEGORIES:Houston Event,taproom,taproom event
ATTACH;FMTTYPE=image/jpeg:https://www.backpewbrewing.com/wp-content/uploads/2021/04/Back-Pew-Time.jpg
END:VEVENT
BEGIN:VEVENT
DTSTART;TZID=America/Chicago:20220805T160000
DTEND;TZID=America/Chicago:20220805T220000
DTSTAMP:20260422T133106
CREATED:20220731T171914Z
LAST-MODIFIED:20220731T171914Z
UID:3220-1659715200-1659736800@www.backpewbrewing.com
SUMMARY:Friday at the Sanctuary: Steak Night
DESCRIPTION:Come out and join us on Friday 4 – 10 pm for Back Pew’s steak night! We’ll have G&G’s Street Grill here ready to serve you up a delicious steak dinner! And of course we’ll have plenty of delicious beer on tap to wash it down. \nFood truck: G&G’s Street Grill \nCheck out the Taproom page for all of the info about the taproom. Cheers!
URL:https://www.backpewbrewing.com/event/steak-night-aug-3/
LOCATION:Back Pew Brewing\, 26452 Sorters McClellan Rd.\, Porter\, TX\, 77365\, United States
CATEGORIES:Houston Event,taproom,taproom event
ATTACH;FMTTYPE=image/jpeg:https://www.backpewbrewing.com/wp-content/uploads/2022/03/Steak-Night-Instagram.jpg
END:VEVENT
BEGIN:VEVENT
DTSTART;TZID=America/Chicago:20220806T120000
DTEND;TZID=America/Chicago:20220806T190000
DTSTAMP:20260422T133106
CREATED:20220731T172247Z
LAST-MODIFIED:20220731T172319Z
UID:3226-1659787200-1659812400@www.backpewbrewing.com
SUMMARY:Saturday at The Sanctuary
DESCRIPTION:Come enjoy another fun-filled day at The Sanctuary! We have delicious\, cold beer\, live music\, and a playground for the kiddos. \nFood Truck: The Rooster \nLive Music: CCR (2-6 PM) \nCheck out our Taproom page for all the info on prices and how the taproom works. Cheers!
URL:https://www.backpewbrewing.com/event/saturday-at-bpb-aug/
LOCATION:Back Pew Brewing\, 26452 Sorters McClellan Rd.\, Porter\, TX\, 77365\, United States
CATEGORIES:taproom
ATTACH;FMTTYPE=image/jpeg:https://www.backpewbrewing.com/wp-content/uploads/2021/01/Friday-at-BPB.jpg
END:VEVENT
BEGIN:VEVENT
DTSTART;TZID=America/Chicago:20220807T120000
DTEND;TZID=America/Chicago:20220807T190000
DTSTAMP:20260422T133106
CREATED:20220731T170404Z
LAST-MODIFIED:20220731T171034Z
UID:3199-1659873600-1659898800@www.backpewbrewing.com
SUMMARY:Sunday at The Sanctuary
DESCRIPTION:Come and close out the weekend right! Join us at The Sanctuary from 12pm – 7pm. We have delicious cold beer\, TV screens\, and a playground for the kiddos. \nFood Truck: TBD \nPlease see our Taproom page for all the info you’ll need.
URL:https://www.backpewbrewing.com/event/sunday-at-the-sanctuary-aug/
LOCATION:Back Pew Brewing\, 26452 Sorters McClellan Rd.\, Porter\, TX\, 77365\, United States
CATEGORIES:taproom
ATTACH;FMTTYPE=image/jpeg:https://www.backpewbrewing.com/wp-content/uploads/2021/01/Sunday-at-BPB.jpg
END:VEVENT
BEGIN:VEVENT
DTSTART;TZID=America/Chicago:20220811T160000
DTEND;TZID=America/Chicago:20220811T220000
DTSTAMP:20260422T133106
CREATED:20220731T171344Z
LAST-MODIFIED:20220731T171344Z
UID:3212-1660233600-1660255200@www.backpewbrewing.com
SUMMARY:Thursday at the Sanctuary
DESCRIPTION:Come out and join us on Thursday 4 – 10 pm. We have awesome cold beer that you can read all about to get your tastebuds ready! \nFood truck: Doggybag Wings \nCheck out the Taproom page for all of the info about the taproom. Cheers!
URL:https://www.backpewbrewing.com/event/thursday-at-the-sanctuary-aug-2/
LOCATION:Back Pew Brewing\, 26452 Sorters McClellan Rd.\, Porter\, TX\, 77365\, United States
CATEGORIES:Houston Event,taproom,taproom event
ATTACH;FMTTYPE=image/jpeg:https://www.backpewbrewing.com/wp-content/uploads/2021/04/Back-Pew-Time.jpg
END:VEVENT
BEGIN:VEVENT
DTSTART;TZID=America/Chicago:20220812T160000
DTEND;TZID=America/Chicago:20220812T220000
DTSTAMP:20260422T133106
CREATED:20220731T171758Z
LAST-MODIFIED:20220731T171758Z
UID:3218-1660320000-1660341600@www.backpewbrewing.com
SUMMARY:Friday at the Sanctuary
DESCRIPTION:Come out and join us on Friday 4 – 10 pm. We have awesome cold beer that you can read all about to get your tastebuds ready! \nFood truck: G&G’s Street Grill \nCheck out the Taproom page for all of the info about the taproom. Cheers!
URL:https://www.backpewbrewing.com/event/friday-at-the-sanctuary-aug/
LOCATION:Back Pew Brewing\, 26452 Sorters McClellan Rd.\, Porter\, TX\, 77365\, United States
CATEGORIES:Houston Event,taproom,taproom event
ATTACH;FMTTYPE=image/jpeg:https://www.backpewbrewing.com/wp-content/uploads/2021/04/Back-Pew-Time.jpg
END:VEVENT
BEGIN:VEVENT
DTSTART;TZID=America/Chicago:20220813T120000
DTEND;TZID=America/Chicago:20220813T190000
DTSTAMP:20260422T133106
CREATED:20220731T172513Z
LAST-MODIFIED:20220731T172513Z
UID:3228-1660392000-1660417200@www.backpewbrewing.com
SUMMARY:Saturday at The Sanctuary
DESCRIPTION:Come enjoy another fun-filled day at The Sanctuary! We have delicious\, cold beer\, live music\, and a playground for the kiddos. \nFood Truck: Fouty’s Pork Shack \nLive Music: Red Skyy (2-6 PM) \nCheck out our Taproom page for all the info on prices and how the taproom works. Cheers!
URL:https://www.backpewbrewing.com/event/saturday-at-bpb-aug-2/
LOCATION:Back Pew Brewing\, 26452 Sorters McClellan Rd.\, Porter\, TX\, 77365\, United States
CATEGORIES:taproom
ATTACH;FMTTYPE=image/jpeg:https://www.backpewbrewing.com/wp-content/uploads/2021/01/Friday-at-BPB.jpg
END:VEVENT
BEGIN:VEVENT
DTSTART;TZID=America/Chicago:20220814T120000
DTEND;TZID=America/Chicago:20220814T190000
DTSTAMP:20260422T133106
CREATED:20220731T170514Z
LAST-MODIFIED:20220731T170514Z
UID:3201-1660478400-1660503600@www.backpewbrewing.com
SUMMARY:Sunday at The Sanctuary
DESCRIPTION:Come and close out the weekend right! Join us at The Sanctuary from 12pm – 7pm. We have delicious cold beer\, TV screens\, and a playground for the kiddos. \nFood Truck: Divine Dogs \nPlease see our Taproom page for all the info you’ll need.
URL:https://www.backpewbrewing.com/event/sunday-at-the-sanctuary-aug-2/
LOCATION:Back Pew Brewing\, 26452 Sorters McClellan Rd.\, Porter\, TX\, 77365\, United States
CATEGORIES:taproom
ATTACH;FMTTYPE=image/jpeg:https://www.backpewbrewing.com/wp-content/uploads/2021/01/Sunday-at-BPB.jpg
END:VEVENT
BEGIN:VEVENT
DTSTART;TZID=America/Chicago:20220818T160000
DTEND;TZID=America/Chicago:20220818T220000
DTSTAMP:20260422T133106
CREATED:20220731T171541Z
LAST-MODIFIED:20220731T171541Z
UID:3216-1660838400-1660860000@www.backpewbrewing.com
SUMMARY:Thursday at the Sanctuary
DESCRIPTION:Come out and join us on Thursday 4 – 10 pm. We have awesome cold beer that you can read all about to get your tastebuds ready! \nFood truck: The Rooster \nCheck out the Taproom page for all of the info about the taproom. Cheers!
URL:https://www.backpewbrewing.com/event/thursday-at-the-sanctuary-aug-2-2-2/
LOCATION:Back Pew Brewing\, 26452 Sorters McClellan Rd.\, Porter\, TX\, 77365\, United States
CATEGORIES:Houston Event,taproom,taproom event
ATTACH;FMTTYPE=image/jpeg:https://www.backpewbrewing.com/wp-content/uploads/2021/04/Back-Pew-Time.jpg
END:VEVENT
BEGIN:VEVENT
DTSTART;TZID=America/Chicago:20220819T160000
DTEND;TZID=America/Chicago:20220819T220000
DTSTAMP:20260422T133106
CREATED:20220731T171946Z
LAST-MODIFIED:20220731T171946Z
UID:3222-1660924800-1660946400@www.backpewbrewing.com
SUMMARY:Friday at the Sanctuary: Steak Night
DESCRIPTION:Come out and join us on Friday 4 – 10 pm for Back Pew’s steak night! We’ll have G&G’s Street Grill here ready to serve you up a delicious steak dinner! And of course we’ll have plenty of delicious beer on tap to wash it down. \nFood truck: G&G’s Street Grill \nCheck out the Taproom page for all of the info about the taproom. Cheers!
URL:https://www.backpewbrewing.com/event/steak-night-aug-3-2/
LOCATION:Back Pew Brewing\, 26452 Sorters McClellan Rd.\, Porter\, TX\, 77365\, United States
CATEGORIES:Houston Event,taproom,taproom event
ATTACH;FMTTYPE=image/jpeg:https://www.backpewbrewing.com/wp-content/uploads/2022/03/Steak-Night-Instagram.jpg
END:VEVENT
BEGIN:VEVENT
DTSTART;TZID=America/Chicago:20220820T120000
DTEND;TZID=America/Chicago:20220820T190000
DTSTAMP:20260422T133106
CREATED:20220731T172716Z
LAST-MODIFIED:20220731T172716Z
UID:3230-1660996800-1661022000@www.backpewbrewing.com
SUMMARY:Saturday at The Sanctuary
DESCRIPTION:Come enjoy another fun-filled day at The Sanctuary! We have delicious\, cold beer\, live music\, and a playground for the kiddos. \nFood Truck: Mingo’s Latin Kitchen \nLive Music: Wheeple (2-6 PM) \nCheck out our Taproom page for all the info on prices and how the taproom works. Cheers!
URL:https://www.backpewbrewing.com/event/saturday-at-bpb-aug-2-2/
LOCATION:Back Pew Brewing\, 26452 Sorters McClellan Rd.\, Porter\, TX\, 77365\, United States
CATEGORIES:taproom
ATTACH;FMTTYPE=image/jpeg:https://www.backpewbrewing.com/wp-content/uploads/2021/01/Friday-at-BPB.jpg
END:VEVENT
BEGIN:VEVENT
DTSTART;TZID=America/Chicago:20220821T120000
DTEND;TZID=America/Chicago:20220821T190000
DTSTAMP:20260422T133106
CREATED:20220731T170545Z
LAST-MODIFIED:20220731T170545Z
UID:3203-1661083200-1661108400@www.backpewbrewing.com
SUMMARY:Sunday at The Sanctuary
DESCRIPTION:Come and close out the weekend right! Join us at The Sanctuary from 12pm – 7pm. We have delicious cold beer\, TV screens\, and a playground for the kiddos. \nFood Truck: Divine Dogs \nPlease see our Taproom page for all the info you’ll need.
URL:https://www.backpewbrewing.com/event/sunday-at-the-sanctuary-aug-2-2/
LOCATION:Back Pew Brewing\, 26452 Sorters McClellan Rd.\, Porter\, TX\, 77365\, United States
CATEGORIES:taproom
ATTACH;FMTTYPE=image/jpeg:https://www.backpewbrewing.com/wp-content/uploads/2021/01/Sunday-at-BPB.jpg
END:VEVENT
BEGIN:VEVENT
DTSTART;TZID=America/Chicago:20220825T160000
DTEND;TZID=America/Chicago:20220825T220000
DTSTAMP:20260422T133106
CREATED:20220816T230316Z
LAST-MODIFIED:20220816T230916Z
UID:3240-1661443200-1661464800@www.backpewbrewing.com
SUMMARY:Thursday at the Sanctuary: MPH Comedy Show
DESCRIPTION:We have a brand new comedy show coming your way at 7:30 PM! That Blank Show is a new Comedy Show presented by MPH Comedy! Stop by for plenty of laughs and plenty of beer! This is the only Comedy Show where YOU get to name the show and win prizes! \n\nThe taproom opens at 4pm on Thursday so get here early to get good seating! It is a FREE show and we  will have awesome cold beer that you can read all about to get your tastebuds ready! \n\n\nFood truck: Doggybag Wings \nCheck out the Taproom page for all of the info about the taproom. Cheers!
URL:https://www.backpewbrewing.com/event/thursday-at-the-sanctuary-aug-mph/
LOCATION:Back Pew Brewing\, 26452 Sorters McClellan Rd.\, Porter\, TX\, 77365\, United States
CATEGORIES:Houston Event,taproom,taproom event
ATTACH;FMTTYPE=image/png:https://www.backpewbrewing.com/wp-content/uploads/2022/08/aug-25-comedy-show.png
END:VEVENT
BEGIN:VEVENT
DTSTART;TZID=America/Chicago:20220826T160000
DTEND;TZID=America/Chicago:20220826T220000
DTSTAMP:20260422T133106
CREATED:20220731T172047Z
LAST-MODIFIED:20220731T172047Z
UID:3224-1661529600-1661551200@www.backpewbrewing.com
SUMMARY:Friday at the Sanctuary
DESCRIPTION:Come out and join us on Friday 4 – 10 pm. We have awesome cold beer that you can read all about to get your tastebuds ready! \nFood truck: Rosalila Urbana \nCheck out the Taproom page for all of the info about the taproom. Cheers!
URL:https://www.backpewbrewing.com/event/friday-at-the-sanctuary-aug-2/
LOCATION:Back Pew Brewing\, 26452 Sorters McClellan Rd.\, Porter\, TX\, 77365\, United States
CATEGORIES:Houston Event,taproom,taproom event
ATTACH;FMTTYPE=image/jpeg:https://www.backpewbrewing.com/wp-content/uploads/2021/04/Back-Pew-Time.jpg
END:VEVENT
BEGIN:VEVENT
DTSTART;TZID=America/Chicago:20220827T120000
DTEND;TZID=America/Chicago:20220827T190000
DTSTAMP:20260422T133106
CREATED:20220731T174348Z
LAST-MODIFIED:20220731T174348Z
UID:3232-1661601600-1661626800@www.backpewbrewing.com
SUMMARY:Saturday at The Sanctuary
DESCRIPTION:Come enjoy another fun-filled day at The Sanctuary! We have delicious\, cold beer\, live music\, and a playground for the kiddos. \nFood Truck: Refill Station \nLive Music: Flight 19 (2-6 PM) \nCheck out our Taproom page for all the info on prices and how the taproom works. Cheers!
URL:https://www.backpewbrewing.com/event/saturday-at-bpb-aug-2-2-2/
LOCATION:Back Pew Brewing\, 26452 Sorters McClellan Rd.\, Porter\, TX\, 77365\, United States
CATEGORIES:taproom
ATTACH;FMTTYPE=image/jpeg:https://www.backpewbrewing.com/wp-content/uploads/2021/01/Friday-at-BPB.jpg
END:VEVENT
BEGIN:VEVENT
DTSTART;TZID=America/Chicago:20220828T120000
DTEND;TZID=America/Chicago:20220828T190000
DTSTAMP:20260422T133106
CREATED:20220731T170616Z
LAST-MODIFIED:20220731T170616Z
UID:3206-1661688000-1661713200@www.backpewbrewing.com
SUMMARY:Sunday at The Sanctuary
DESCRIPTION:Come and close out the weekend right! Join us at The Sanctuary from 12pm – 7pm. We have delicious cold beer\, TV screens\, and a playground for the kiddos. \nFood Truck: Divine Dogs \nPlease see our Taproom page for all the info you’ll need.
URL:https://www.backpewbrewing.com/event/sunday-at-the-sanctuary-aug-2-2-2/
LOCATION:Back Pew Brewing\, 26452 Sorters McClellan Rd.\, Porter\, TX\, 77365\, United States
CATEGORIES:taproom
ATTACH;FMTTYPE=image/jpeg:https://www.backpewbrewing.com/wp-content/uploads/2021/01/Sunday-at-BPB.jpg
END:VEVENT
END:VCALENDAR