BEGIN:VCALENDAR
VERSION:2.0
PRODID:-//www.backpewbrewing.com - ECPv6.15.20//NONSGML v1.0//EN
CALSCALE:GREGORIAN
METHOD:PUBLISH
X-ORIGINAL-URL:https://www.backpewbrewing.com
X-WR-CALDESC:Events for www.backpewbrewing.com
REFRESH-INTERVAL;VALUE=DURATION:PT1H
X-Robots-Tag:noindex
X-PUBLISHED-TTL:PT1H
BEGIN:VTIMEZONE
TZID:America/Chicago
BEGIN:DAYLIGHT
TZOFFSETFROM:-0600
TZOFFSETTO:-0500
TZNAME:CDT
DTSTART:20210314T080000
END:DAYLIGHT
BEGIN:STANDARD
TZOFFSETFROM:-0500
TZOFFSETTO:-0600
TZNAME:CST
DTSTART:20211107T070000
END:STANDARD
BEGIN:DAYLIGHT
TZOFFSETFROM:-0600
TZOFFSETTO:-0500
TZNAME:CDT
DTSTART:20220313T080000
END:DAYLIGHT
BEGIN:STANDARD
TZOFFSETFROM:-0500
TZOFFSETTO:-0600
TZNAME:CST
DTSTART:20221106T070000
END:STANDARD
BEGIN:DAYLIGHT
TZOFFSETFROM:-0600
TZOFFSETTO:-0500
TZNAME:CDT
DTSTART:20230312T080000
END:DAYLIGHT
BEGIN:STANDARD
TZOFFSETFROM:-0500
TZOFFSETTO:-0600
TZNAME:CST
DTSTART:20231105T070000
END:STANDARD
END:VTIMEZONE
BEGIN:VEVENT
DTSTART;TZID=America/Chicago:20220603T160000
DTEND;TZID=America/Chicago:20220603T210000
DTSTAMP:20260422T145349
CREATED:20220527T180800Z
LAST-MODIFIED:20220527T180800Z
UID:3079-1654272000-1654290000@www.backpewbrewing.com
SUMMARY:Friday at the Sanctuary: Steak Night
DESCRIPTION:Come out and join us on Friday 4 – 9 pm for Back Pew’s monthly steak night! We’ll have G&G’s Street Grill here ready to serve you up a delicious steak dinner! And of course we’ll have plenty of delicious beer on tap to wash it down. \nFood truck: G&G’s Street Grill \nCheck out the Taproom page for all of the info about the taproom. Cheers!
URL:https://www.backpewbrewing.com/event/steak-night/
LOCATION:Back Pew Brewing\, 26452 Sorters McClellan Rd.\, Porter\, TX\, 77365\, United States
CATEGORIES:Houston Event,taproom,taproom event
ATTACH;FMTTYPE=image/jpeg:https://www.backpewbrewing.com/wp-content/uploads/2022/03/Steak-Night-Instagram.jpg
END:VEVENT
BEGIN:VEVENT
DTSTART;TZID=America/Chicago:20220604T120000
DTEND;TZID=America/Chicago:20220604T190000
DTSTAMP:20260422T145349
CREATED:20220527T182202Z
LAST-MODIFIED:20220527T182202Z
UID:3087-1654344000-1654369200@www.backpewbrewing.com
SUMMARY:Saturday at The Sanctuary
DESCRIPTION:Come enjoy another fun-filled day at The Sanctuary! We have delicious\, cold beer\, live music\, and a playground for the kiddos. \nFood Truck: The Rooster \nLive Music: CCR (2-6 PM) \nCheck out our Taproom page for all the info on prices and how the taproom works. Cheers!
URL:https://www.backpewbrewing.com/event/saturday-at-bpb-may-2-2-2/
LOCATION:Back Pew Brewing\, 26452 Sorters McClellan Rd.\, Porter\, TX\, 77365\, United States
CATEGORIES:taproom
ATTACH;FMTTYPE=image/jpeg:https://www.backpewbrewing.com/wp-content/uploads/2021/01/Friday-at-BPB.jpg
END:VEVENT
BEGIN:VEVENT
DTSTART;TZID=America/Chicago:20220605T130000
DTEND;TZID=America/Chicago:20220605T170000
DTSTAMP:20260422T145349
CREATED:20220527T183011Z
LAST-MODIFIED:20220527T183056Z
UID:3093-1654434000-1654448400@www.backpewbrewing.com
SUMMARY:Sunday at The Sanctuary
DESCRIPTION:Come and close out the weekend right! Join us at The Sanctuary from 1pm – 5pm. We have delicious cold beer\, TV screens\, and a playground for the kiddos. \nFood Truck: Kajun Asian on Wheels \nPlease see our Taproom page for all the info you’ll need.
URL:https://www.backpewbrewing.com/event/sunday-at-the-sanctuary-june/
LOCATION:Back Pew Brewing\, 26452 Sorters McClellan Rd.\, Porter\, TX\, 77365\, United States
CATEGORIES:taproom
ATTACH;FMTTYPE=image/jpeg:https://www.backpewbrewing.com/wp-content/uploads/2021/01/Sunday-at-BPB.jpg
END:VEVENT
BEGIN:VEVENT
DTSTART;TZID=America/Chicago:20220609T160000
DTEND;TZID=America/Chicago:20220609T220000
DTSTAMP:20260422T145349
CREATED:20220609T224322Z
LAST-MODIFIED:20220609T224322Z
UID:3103-1654790400-1654812000@www.backpewbrewing.com
SUMMARY:Thursday at the Sanctuary
DESCRIPTION:Come out and join us on Thursday 4 – 10 pm. We have awesome cold beer that you can read all about to get your tastebuds ready! \nFood truck: The Rooster \nCheck out the Taproom page for all of the info about the taproom. Cheers!
URL:https://www.backpewbrewing.com/event/thursday-at-the-sanctuaryjune-2/
LOCATION:Back Pew Brewing\, 26452 Sorters McClellan Rd.\, Porter\, TX\, 77365\, United States
CATEGORIES:Houston Event,taproom,taproom event
ATTACH;FMTTYPE=image/jpeg:https://www.backpewbrewing.com/wp-content/uploads/2021/04/Back-Pew-Time.jpg
END:VEVENT
BEGIN:VEVENT
DTSTART;TZID=America/Chicago:20220610T160000
DTEND;TZID=America/Chicago:20220610T220000
DTSTAMP:20260422T145349
CREATED:20220527T181144Z
LAST-MODIFIED:20220609T224426Z
UID:3081-1654876800-1654898400@www.backpewbrewing.com
SUMMARY:Friday at the Sanctuary
DESCRIPTION:Come out and join us on Friday 4 – 10 pm. We have awesome cold beer that you can read all about to get your tastebuds ready! \nFood truck: Refill Station \nCheck out the Taproom page for all of the info about the taproom. Cheers!
URL:https://www.backpewbrewing.com/event/friday-at-the-sanctuary-2-2-2-2-2-2-2-2-2/
LOCATION:Back Pew Brewing\, 26452 Sorters McClellan Rd.\, Porter\, TX\, 77365\, United States
CATEGORIES:Houston Event,taproom,taproom event
ATTACH;FMTTYPE=image/jpeg:https://www.backpewbrewing.com/wp-content/uploads/2021/04/Back-Pew-Time.jpg
END:VEVENT
BEGIN:VEVENT
DTSTART;TZID=America/Chicago:20220611T120000
DTEND;TZID=America/Chicago:20220611T190000
DTSTAMP:20260422T145349
CREATED:20220527T180043Z
LAST-MODIFIED:20220527T180043Z
UID:3077-1654948800-1654974000@www.backpewbrewing.com
SUMMARY:Saturday at The Sanctuary: Back Pew Market
DESCRIPTION:It’s Back Pew Market Day! Come out to get some shopping done\, and enjoy some great food\, delicious\, cold beer\, live music\, and a playground for the kiddos. Interested in becoming a vendor at our market? Get in touch with Kingwood Farmers Market here \nFood Truck: Rosalila Urbano \nLive Music: Sector A (2-6 PM) \nCheck out our Taproom page for all the info on prices and how the taproom works. Cheers!
URL:https://www.backpewbrewing.com/event/saturday-at-bpb-april-2-2/
LOCATION:Back Pew Brewing\, 26452 Sorters McClellan Rd.\, Porter\, TX\, 77365\, United States
CATEGORIES:taproom
ATTACH;FMTTYPE=image/jpeg:https://www.backpewbrewing.com/wp-content/uploads/2022/04/market.jpg
END:VEVENT
BEGIN:VEVENT
DTSTART;TZID=America/Chicago:20220612T120000
DTEND;TZID=America/Chicago:20220612T190000
DTSTAMP:20260422T145349
CREATED:20220527T183152Z
LAST-MODIFIED:20220611T181239Z
UID:3095-1655035200-1655060400@www.backpewbrewing.com
SUMMARY:Sunday at The Sanctuary
DESCRIPTION:Come and close out the weekend right! Join us at The Sanctuary from 12pm – 7pm. We have delicious cold beer\, TV screens\, and a playground for the kiddos. \nFood Truck: Kajun Asian on Wheels \nPlease see our Taproom page for all the info you’ll need.
URL:https://www.backpewbrewing.com/event/sunday-at-the-sanctuary-june-2/
LOCATION:Back Pew Brewing\, 26452 Sorters McClellan Rd.\, Porter\, TX\, 77365\, United States
CATEGORIES:taproom
ATTACH;FMTTYPE=image/jpeg:https://www.backpewbrewing.com/wp-content/uploads/2021/01/Sunday-at-BPB.jpg
END:VEVENT
BEGIN:VEVENT
DTSTART;TZID=America/Chicago:20220616T160000
DTEND;TZID=America/Chicago:20220616T220000
DTSTAMP:20260422T145349
CREATED:20220611T182844Z
LAST-MODIFIED:20220611T182844Z
UID:3113-1655395200-1655416800@www.backpewbrewing.com
SUMMARY:Thursday at the Sanctuary
DESCRIPTION:Come out and join us on Thursday 4 – 10 pm. We have awesome cold beer that you can read all about to get your tastebuds ready! \nFood truck: TBD \nCheck out the Taproom page for all of the info about the taproom. Cheers!
URL:https://www.backpewbrewing.com/event/thursday-at-the-sanctuaryjune-2-2/
LOCATION:Back Pew Brewing\, 26452 Sorters McClellan Rd.\, Porter\, TX\, 77365\, United States
CATEGORIES:Houston Event,taproom,taproom event
ATTACH;FMTTYPE=image/jpeg:https://www.backpewbrewing.com/wp-content/uploads/2021/04/Back-Pew-Time.jpg
END:VEVENT
BEGIN:VEVENT
DTSTART;TZID=America/Chicago:20220617T160000
DTEND;TZID=America/Chicago:20220617T220000
DTSTAMP:20260422T145349
CREATED:20220527T181736Z
LAST-MODIFIED:20220611T183126Z
UID:3085-1655481600-1655503200@www.backpewbrewing.com
SUMMARY:Friday at the Sanctuary: Steak Night
DESCRIPTION:Come out and join us on Friday 4 – 10 pm for Back Pew’s monthly steak night! We’ll have G&G’s Street Grill here ready to serve you up a delicious steak dinner! And of course we’ll have plenty of delicious beer on tap to wash it down. \nFood truck: G&G’s Street Grill \nCheck out the Taproom page for all of the info about the taproom. Cheers!
URL:https://www.backpewbrewing.com/event/steak-night-2/
LOCATION:Back Pew Brewing\, 26452 Sorters McClellan Rd.\, Porter\, TX\, 77365\, United States
CATEGORIES:Houston Event,taproom,taproom event
ATTACH;FMTTYPE=image/jpeg:https://www.backpewbrewing.com/wp-content/uploads/2022/03/Steak-Night-Instagram.jpg
END:VEVENT
BEGIN:VEVENT
DTSTART;TZID=America/Chicago:20220618T120000
DTEND;TZID=America/Chicago:20220618T190000
DTSTAMP:20260422T145349
CREATED:20220527T182530Z
LAST-MODIFIED:20220527T182530Z
UID:3089-1655553600-1655578800@www.backpewbrewing.com
SUMMARY:Saturday at The Sanctuary
DESCRIPTION:Come enjoy another fun-filled day at The Sanctuary! We have delicious\, cold beer\, live music\, and a playground for the kiddos. \nFood Truck: Yummy Dog \nLive Music: Road Dawgs (2-6 PM) \nCheck out our Taproom page for all the info on prices and how the taproom works. Cheers!
URL:https://www.backpewbrewing.com/event/saturday-at-bpb-may-2-2-2-2/
LOCATION:Back Pew Brewing\, 26452 Sorters McClellan Rd.\, Porter\, TX\, 77365\, United States
CATEGORIES:taproom
ATTACH;FMTTYPE=image/jpeg:https://www.backpewbrewing.com/wp-content/uploads/2021/01/Friday-at-BPB.jpg
END:VEVENT
BEGIN:VEVENT
DTSTART;TZID=America/Chicago:20220619T120000
DTEND;TZID=America/Chicago:20220619T190000
DTSTAMP:20260422T145349
CREATED:20220527T183617Z
LAST-MODIFIED:20220611T184327Z
UID:3097-1655640000-1655665200@www.backpewbrewing.com
SUMMARY:Sunday at The Sanctuary
DESCRIPTION:Come and close out the weekend right! Join us at The Sanctuary from 12pm – 7pm. We have delicious cold beer\, TV screens\, and a playground for the kiddos. \nFood Truck: Divine Dogs \nPlease see our Taproom page for all the info you’ll need.
URL:https://www.backpewbrewing.com/event/sunday-at-the-sanctuary-june-2-2/
LOCATION:Back Pew Brewing\, 26452 Sorters McClellan Rd.\, Porter\, TX\, 77365\, United States
CATEGORIES:taproom
ATTACH;FMTTYPE=image/jpeg:https://www.backpewbrewing.com/wp-content/uploads/2021/01/Sunday-at-BPB.jpg
END:VEVENT
BEGIN:VEVENT
DTSTART;TZID=America/Chicago:20220623T160000
DTEND;TZID=America/Chicago:20220623T220000
DTSTAMP:20260422T145349
CREATED:20220611T182927Z
LAST-MODIFIED:20220611T182927Z
UID:3115-1656000000-1656021600@www.backpewbrewing.com
SUMMARY:Thursday at the Sanctuary
DESCRIPTION:Come out and join us on Thursday 4 – 10 pm. We have awesome cold beer that you can read all about to get your tastebuds ready! \nFood truck: TBD \nCheck out the Taproom page for all of the info about the taproom. Cheers!
URL:https://www.backpewbrewing.com/event/thursday-at-the-sanctuaryjune-2-2-2/
LOCATION:Back Pew Brewing\, 26452 Sorters McClellan Rd.\, Porter\, TX\, 77365\, United States
CATEGORIES:Houston Event,taproom,taproom event
ATTACH;FMTTYPE=image/jpeg:https://www.backpewbrewing.com/wp-content/uploads/2021/04/Back-Pew-Time.jpg
END:VEVENT
BEGIN:VEVENT
DTSTART;TZID=America/Chicago:20220624T160000
DTEND;TZID=America/Chicago:20220624T220000
DTSTAMP:20260422T145349
CREATED:20220527T181503Z
LAST-MODIFIED:20220611T183213Z
UID:3083-1656086400-1656108000@www.backpewbrewing.com
SUMMARY:Friday at the Sanctuary
DESCRIPTION:Come out and join us on Friday 4 – 10 pm. We have awesome cold beer that you can read all about to get your tastebuds ready! \nFood truck: Yummy Dog \nCheck out the Taproom page for all of the info about the taproom. Cheers!
URL:https://www.backpewbrewing.com/event/friday-at-the-sanctuaryjune/
LOCATION:Back Pew Brewing\, 26452 Sorters McClellan Rd.\, Porter\, TX\, 77365\, United States
CATEGORIES:Houston Event,taproom,taproom event
ATTACH;FMTTYPE=image/jpeg:https://www.backpewbrewing.com/wp-content/uploads/2021/04/Back-Pew-Time.jpg
END:VEVENT
BEGIN:VEVENT
DTSTART;TZID=America/Chicago:20220625T120000
DTEND;TZID=America/Chicago:20220625T190000
DTSTAMP:20260422T145349
CREATED:20220527T182701Z
LAST-MODIFIED:20220527T182701Z
UID:3091-1656158400-1656183600@www.backpewbrewing.com
SUMMARY:Saturday at The Sanctuary
DESCRIPTION:Come enjoy another fun-filled day at The Sanctuary! We have delicious\, cold beer\, live music\, and a playground for the kiddos. \nFood Truck: Rosalila Urbano \nLive Music: Joel’s Garage Band (2-6 PM) \nCheck out our Taproom page for all the info on prices and how the taproom works. Cheers!
URL:https://www.backpewbrewing.com/event/saturday-at-bpb-may-2-2-2-2-2/
LOCATION:Back Pew Brewing\, 26452 Sorters McClellan Rd.\, Porter\, TX\, 77365\, United States
CATEGORIES:taproom
ATTACH;FMTTYPE=image/jpeg:https://www.backpewbrewing.com/wp-content/uploads/2021/01/Friday-at-BPB.jpg
END:VEVENT
BEGIN:VEVENT
DTSTART;TZID=America/Chicago:20220626T120000
DTEND;TZID=America/Chicago:20220626T190000
DTSTAMP:20260422T145349
CREATED:20220527T183941Z
LAST-MODIFIED:20220611T184448Z
UID:3099-1656244800-1656270000@www.backpewbrewing.com
SUMMARY:Sunday at The Sanctuary
DESCRIPTION:Come and close out the weekend right! Join us at The Sanctuary from 12pm – 7pm. We have delicious cold beer\, TV screens\, and a playground for the kiddos. \nFood Truck: Yummy Dog \nPlease see our Taproom page for all the info you’ll need.
URL:https://www.backpewbrewing.com/event/sunday-at-the-sanctuary-june-2-2-2/
LOCATION:Back Pew Brewing\, 26452 Sorters McClellan Rd.\, Porter\, TX\, 77365\, United States
CATEGORIES:taproom
ATTACH;FMTTYPE=image/jpeg:https://www.backpewbrewing.com/wp-content/uploads/2021/01/Sunday-at-BPB.jpg
END:VEVENT
BEGIN:VEVENT
DTSTART;TZID=America/Chicago:20220630T160000
DTEND;TZID=America/Chicago:20220630T220000
DTSTAMP:20260422T145349
CREATED:20220611T183004Z
LAST-MODIFIED:20220611T183004Z
UID:3117-1656604800-1656626400@www.backpewbrewing.com
SUMMARY:Thursday at the Sanctuary
DESCRIPTION:Come out and join us on Thursday 4 – 10 pm. We have awesome cold beer that you can read all about to get your tastebuds ready! \nFood truck: TBD \nCheck out the Taproom page for all of the info about the taproom. Cheers!
URL:https://www.backpewbrewing.com/event/thursday-at-the-sanctuaryjune-2-2-2-2/
LOCATION:Back Pew Brewing\, 26452 Sorters McClellan Rd.\, Porter\, TX\, 77365\, United States
CATEGORIES:Houston Event,taproom,taproom event
ATTACH;FMTTYPE=image/jpeg:https://www.backpewbrewing.com/wp-content/uploads/2021/04/Back-Pew-Time.jpg
END:VEVENT
END:VCALENDAR