BEGIN:VCALENDAR
VERSION:2.0
PRODID:-//www.backpewbrewing.com - ECPv6.15.20//NONSGML v1.0//EN
CALSCALE:GREGORIAN
METHOD:PUBLISH
X-ORIGINAL-URL:https://www.backpewbrewing.com
X-WR-CALDESC:Events for www.backpewbrewing.com
REFRESH-INTERVAL;VALUE=DURATION:PT1H
X-Robots-Tag:noindex
X-PUBLISHED-TTL:PT1H
BEGIN:VTIMEZONE
TZID:America/Chicago
BEGIN:DAYLIGHT
TZOFFSETFROM:-0600
TZOFFSETTO:-0500
TZNAME:CDT
DTSTART:20210314T080000
END:DAYLIGHT
BEGIN:STANDARD
TZOFFSETFROM:-0500
TZOFFSETTO:-0600
TZNAME:CST
DTSTART:20211107T070000
END:STANDARD
BEGIN:DAYLIGHT
TZOFFSETFROM:-0600
TZOFFSETTO:-0500
TZNAME:CDT
DTSTART:20220313T080000
END:DAYLIGHT
BEGIN:STANDARD
TZOFFSETFROM:-0500
TZOFFSETTO:-0600
TZNAME:CST
DTSTART:20221106T070000
END:STANDARD
BEGIN:DAYLIGHT
TZOFFSETFROM:-0600
TZOFFSETTO:-0500
TZNAME:CDT
DTSTART:20230312T080000
END:DAYLIGHT
BEGIN:STANDARD
TZOFFSETFROM:-0500
TZOFFSETTO:-0600
TZNAME:CST
DTSTART:20231105T070000
END:STANDARD
END:VTIMEZONE
BEGIN:VEVENT
DTSTART;TZID=America/Chicago:20220501T130000
DTEND;TZID=America/Chicago:20220501T170000
DTSTAMP:20260422T133105
CREATED:20220412T012203Z
LAST-MODIFIED:20220412T012203Z
UID:3019-1651410000-1651424400@www.backpewbrewing.com
SUMMARY:Sunday at The Sanctuary
DESCRIPTION:Come and close out the weekend right! Join us at The Sanctuary from 1pm – 5pm. We have delicious cold beer\, TV screens\, and a playground for the kiddos. \nFood Truck: Yummy Dog \nPlease see our Taproom page for all the info you’ll need.
URL:https://www.backpewbrewing.com/event/sunday-at-the-sanctuary-2-2-3-2-2-2-3/
LOCATION:Back Pew Brewing\, 26452 Sorters McClellan Rd.\, Porter\, TX\, 77365\, United States
CATEGORIES:taproom
ATTACH;FMTTYPE=image/jpeg:https://www.backpewbrewing.com/wp-content/uploads/2021/01/Sunday-at-BPB.jpg
END:VEVENT
BEGIN:VEVENT
DTSTART;TZID=America/Chicago:20220506T160000
DTEND;TZID=America/Chicago:20220506T210000
DTSTAMP:20260422T133105
CREATED:20220412T011850Z
LAST-MODIFIED:20220412T011917Z
UID:3017-1651852800-1651870800@www.backpewbrewing.com
SUMMARY:Friday at the Sanctuary: Steak Night
DESCRIPTION:Come out and join us on Friday 4 – 9 pm for Back Pew’s monthly steak night! We’ll have G&G’s Street Grill here ready to serve you up a delicious steak dinner! And of course we’ll have plenty of delicious beer on tap to wash it down. \nFood truck: G&G’s Street Grill \nCheck out the Taproom page for all of the info about the taproom. Cheers!
URL:https://www.backpewbrewing.com/event/friday-at-the-sanctuary-2-2-2-3/
LOCATION:Back Pew Brewing\, 26452 Sorters McClellan Rd.\, Porter\, TX\, 77365\, United States
CATEGORIES:Houston Event,taproom,taproom event
ATTACH;FMTTYPE=image/jpeg:https://www.backpewbrewing.com/wp-content/uploads/2022/03/Steak-Night-Instagram.jpg
END:VEVENT
BEGIN:VEVENT
DTSTART;TZID=America/Chicago:20220507T120000
DTEND;TZID=America/Chicago:20220507T190000
DTSTAMP:20260422T133105
CREATED:20220412T012814Z
LAST-MODIFIED:20220412T015824Z
UID:3029-1651924800-1651950000@www.backpewbrewing.com
SUMMARY:Saturday at The Sanctuary
DESCRIPTION:Come enjoy another fun-filled day at The Sanctuary! We have delicious\, cold beer\, live music\, and a playground for the kiddos. \nFood Truck: Mingo’s Latin Kitchen \nLive Music: The Skinz (2-6 PM) \nCheck out our Taproom page for all the info on prices and how the taproom works. Cheers!
URL:https://www.backpewbrewing.com/event/saturday-at-bpb-may/
LOCATION:Back Pew Brewing\, 26452 Sorters McClellan Rd.\, Porter\, TX\, 77365\, United States
CATEGORIES:taproom
ATTACH;FMTTYPE=image/jpeg:https://www.backpewbrewing.com/wp-content/uploads/2021/01/Friday-at-BPB.jpg
END:VEVENT
BEGIN:VEVENT
DTSTART;TZID=America/Chicago:20220508T130000
DTEND;TZID=America/Chicago:20220508T170000
DTSTAMP:20260422T133105
CREATED:20220412T012337Z
LAST-MODIFIED:20220417T152622Z
UID:3021-1652014800-1652029200@www.backpewbrewing.com
SUMMARY:Sunday at The Sanctuary
DESCRIPTION:Come and close out the weekend right! Join us at The Sanctuary from 1pm – 5pm. We have delicious cold beer\, TV screens\, and a playground for the kiddos. \nFood Truck: Rosalila Urbano Latin Kitchen \nPlease see our Taproom page for all the info you’ll need.
URL:https://www.backpewbrewing.com/event/sunday-at-the-sanctuary-5/
LOCATION:Back Pew Brewing\, 26452 Sorters McClellan Rd.\, Porter\, TX\, 77365\, United States
CATEGORIES:taproom
ATTACH;FMTTYPE=image/jpeg:https://www.backpewbrewing.com/wp-content/uploads/2021/01/Sunday-at-BPB.jpg
END:VEVENT
BEGIN:VEVENT
DTSTART;TZID=America/Chicago:20220513T160000
DTEND;TZID=America/Chicago:20220513T210000
DTSTAMP:20260422T133105
CREATED:20220412T020329Z
LAST-MODIFIED:20220412T020329Z
UID:3035-1652457600-1652475600@www.backpewbrewing.com
SUMMARY:Friday at the Sanctuary
DESCRIPTION:Come out and join us on Friday 4 – 9 pm. We have awesome cold beer that you can read all about to get your tastebuds ready! \nFood truck: TBD \nCheck out the Taproom page for all of the info about the taproom. Cheers!
URL:https://www.backpewbrewing.com/event/friday-at-the-sanctuary-2-2-2-2-2-2-2/
LOCATION:Back Pew Brewing\, 26452 Sorters McClellan Rd.\, Porter\, TX\, 77365\, United States
CATEGORIES:Houston Event,taproom,taproom event
ATTACH;FMTTYPE=image/jpeg:https://www.backpewbrewing.com/wp-content/uploads/2021/04/Back-Pew-Time.jpg
END:VEVENT
BEGIN:VEVENT
DTSTART;TZID=America/Chicago:20220514T120000
DTEND;TZID=America/Chicago:20220514T190000
DTSTAMP:20260422T133105
CREATED:20220412T011703Z
LAST-MODIFIED:20220514T160023Z
UID:3014-1652529600-1652554800@www.backpewbrewing.com
SUMMARY:Saturday at The Sanctuary: Back Pew Market
DESCRIPTION:It’s Back Pew Market Day! Come out to get some shopping done\, and enjoy some great food\, delicious\, cold beer\, live music\, and a playground for the kiddos. Interested in becoming a vendor at our market? Get in touch with Kingwood Farmers Market here \nFood Truck: Rooster & G&G’s Street Grill \nLive Music: 100 Proof (2-6 PM) \nCheck out our Taproom page for all the info on prices and how the taproom works. Cheers!
URL:https://www.backpewbrewing.com/event/saturday-at-bpb-april-2/
LOCATION:Back Pew Brewing\, 26452 Sorters McClellan Rd.\, Porter\, TX\, 77365\, United States
CATEGORIES:taproom
ATTACH;FMTTYPE=image/jpeg:https://www.backpewbrewing.com/wp-content/uploads/2022/04/market.jpg
END:VEVENT
BEGIN:VEVENT
DTSTART;TZID=America/Chicago:20220515T130000
DTEND;TZID=America/Chicago:20220515T170000
DTSTAMP:20260422T133105
CREATED:20220412T012431Z
LAST-MODIFIED:20220514T160955Z
UID:3023-1652619600-1652634000@www.backpewbrewing.com
SUMMARY:Sunday at The Sanctuary
DESCRIPTION:Come and close out the weekend right! Join us at The Sanctuary from 1pm – 5pm. We have delicious cold beer\, TV screens\, and a playground for the kiddos. \nFood Truck: The Rooster \nPlease see our Taproom page for all the info you’ll need.
URL:https://www.backpewbrewing.com/event/sunday-at-the-sanctuary-5-2/
LOCATION:Back Pew Brewing\, 26452 Sorters McClellan Rd.\, Porter\, TX\, 77365\, United States
CATEGORIES:taproom
ATTACH;FMTTYPE=image/jpeg:https://www.backpewbrewing.com/wp-content/uploads/2021/01/Sunday-at-BPB.jpg
END:VEVENT
BEGIN:VEVENT
DTSTART;TZID=America/Chicago:20220520T193000
DTEND;TZID=America/Chicago:20220520T223000
DTSTAMP:20260422T133105
CREATED:20220306T194736Z
LAST-MODIFIED:20220514T161111Z
UID:2944-1653075000-1653085800@www.backpewbrewing.com
SUMMARY:Concert Night: Escape
DESCRIPTION:Come out to see Escape\, the awesome Journey tribute band\, as they take the Back Pew stage! \nDoors Open: 5pm \nCover: $10 \nConcert: 7:30 – 10:30 (Last call 10:20) \nFood Trucks: G&G’s Street Grill and Rosalila Urbano \nCheck out the Taproom page for all the info you need on what we’re pouring and what you need to know!
URL:https://www.backpewbrewing.com/event/concert-night-escape/
LOCATION:Back Pew Brewing\, 26452 Sorters McClellan Rd.\, Porter\, TX\, 77365\, United States
CATEGORIES:Concert,Houston Event,taproom,taproom event
ATTACH;FMTTYPE=image/jpeg:https://www.backpewbrewing.com/wp-content/uploads/2022/03/escape.jpg
END:VEVENT
BEGIN:VEVENT
DTSTART;TZID=America/Chicago:20220521T120000
DTEND;TZID=America/Chicago:20220521T190000
DTSTAMP:20260422T133105
CREATED:20220412T020031Z
LAST-MODIFIED:20220514T160506Z
UID:3031-1653134400-1653159600@www.backpewbrewing.com
SUMMARY:Saturday at The Sanctuary
DESCRIPTION:Come enjoy another fun-filled day at The Sanctuary! We have delicious\, cold beer\, live music\, and a playground for the kiddos. \nFood Truck: Refill Station \nLive Music: The John Barraza Band (2-6 PM) \nCheck out our Taproom page for all the info on prices and how the taproom works. Cheers!
URL:https://www.backpewbrewing.com/event/saturday-at-bpb-may-2/
LOCATION:Back Pew Brewing\, 26452 Sorters McClellan Rd.\, Porter\, TX\, 77365\, United States
CATEGORIES:taproom
ATTACH;FMTTYPE=image/jpeg:https://www.backpewbrewing.com/wp-content/uploads/2021/01/Friday-at-BPB.jpg
END:VEVENT
BEGIN:VEVENT
DTSTART;TZID=America/Chicago:20220522T130000
DTEND;TZID=America/Chicago:20220522T170000
DTSTAMP:20260422T133105
CREATED:20220412T012521Z
LAST-MODIFIED:20220514T161355Z
UID:3025-1653224400-1653238800@www.backpewbrewing.com
SUMMARY:Sunday at The Sanctuary
DESCRIPTION:Come and close out the weekend right! Join us at The Sanctuary from 1pm – 5pm. We have delicious cold beer\, TV screens\, and a playground for the kiddos. \nFood Truck: Rosalila Urbano Latin Kitchen \nPlease see our Taproom page for all the info you’ll need.
URL:https://www.backpewbrewing.com/event/sunday-at-the-sanctuary-5-2-2/
LOCATION:Back Pew Brewing\, 26452 Sorters McClellan Rd.\, Porter\, TX\, 77365\, United States
CATEGORIES:taproom
ATTACH;FMTTYPE=image/jpeg:https://www.backpewbrewing.com/wp-content/uploads/2021/01/Sunday-at-BPB.jpg
END:VEVENT
BEGIN:VEVENT
DTSTART;TZID=America/Chicago:20220527T160000
DTEND;TZID=America/Chicago:20220527T210000
DTSTAMP:20260422T133105
CREATED:20220412T020447Z
LAST-MODIFIED:20220514T161445Z
UID:3037-1653667200-1653685200@www.backpewbrewing.com
SUMMARY:Friday at the Sanctuary
DESCRIPTION:Come out and join us on Friday 4 – 9 pm. We have awesome cold beer that you can read all about to get your tastebuds ready! \nFood truck: Doggybag Wings \nCheck out the Taproom page for all of the info about the taproom. Cheers!
URL:https://www.backpewbrewing.com/event/friday-at-the-sanctuary-2-2-2-2-2-2-2-2/
LOCATION:Back Pew Brewing\, 26452 Sorters McClellan Rd.\, Porter\, TX\, 77365\, United States
CATEGORIES:Houston Event,taproom,taproom event
ATTACH;FMTTYPE=image/jpeg:https://www.backpewbrewing.com/wp-content/uploads/2021/04/Back-Pew-Time.jpg
END:VEVENT
BEGIN:VEVENT
DTSTART;TZID=America/Chicago:20220528T120000
DTEND;TZID=America/Chicago:20220528T190000
DTSTAMP:20260422T133105
CREATED:20220412T020143Z
LAST-MODIFIED:20220514T161527Z
UID:3033-1653739200-1653764400@www.backpewbrewing.com
SUMMARY:Saturday at The Sanctuary
DESCRIPTION:Come enjoy another fun-filled day at The Sanctuary! We have delicious\, cold beer\, live music\, and a playground for the kiddos. \nFood Truck: G&G Street Grill \nLive Music: Flight 19 (2-6 PM) \nCheck out our Taproom page for all the info on prices and how the taproom works. Cheers!
URL:https://www.backpewbrewing.com/event/saturday-at-bpb-may-2-2/
LOCATION:Back Pew Brewing\, 26452 Sorters McClellan Rd.\, Porter\, TX\, 77365\, United States
CATEGORIES:taproom
ATTACH;FMTTYPE=image/jpeg:https://www.backpewbrewing.com/wp-content/uploads/2021/01/Friday-at-BPB.jpg
END:VEVENT
BEGIN:VEVENT
DTSTART;TZID=America/Chicago:20220529T130000
DTEND;TZID=America/Chicago:20220529T170000
DTSTAMP:20260422T133105
CREATED:20220412T012611Z
LAST-MODIFIED:20220412T012611Z
UID:3027-1653829200-1653843600@www.backpewbrewing.com
SUMMARY:Sunday at The Sanctuary
DESCRIPTION:Come and close out the weekend right! Join us at The Sanctuary from 1pm – 5pm. We have delicious cold beer\, TV screens\, and a playground for the kiddos. \nFood Truck: TBD \nPlease see our Taproom page for all the info you’ll need.
URL:https://www.backpewbrewing.com/event/sunday-at-the-sanctuary-5-2-2-2/
LOCATION:Back Pew Brewing\, 26452 Sorters McClellan Rd.\, Porter\, TX\, 77365\, United States
CATEGORIES:taproom
ATTACH;FMTTYPE=image/jpeg:https://www.backpewbrewing.com/wp-content/uploads/2021/01/Sunday-at-BPB.jpg
END:VEVENT
END:VCALENDAR