BEGIN:VCALENDAR
VERSION:2.0
PRODID:-//www.backpewbrewing.com - ECPv6.15.20//NONSGML v1.0//EN
CALSCALE:GREGORIAN
METHOD:PUBLISH
X-ORIGINAL-URL:https://www.backpewbrewing.com
X-WR-CALDESC:Events for www.backpewbrewing.com
REFRESH-INTERVAL;VALUE=DURATION:PT1H
X-Robots-Tag:noindex
X-PUBLISHED-TTL:PT1H
BEGIN:VTIMEZONE
TZID:America/Chicago
BEGIN:DAYLIGHT
TZOFFSETFROM:-0600
TZOFFSETTO:-0500
TZNAME:CDT
DTSTART:20250309T080000
END:DAYLIGHT
BEGIN:STANDARD
TZOFFSETFROM:-0500
TZOFFSETTO:-0600
TZNAME:CST
DTSTART:20251102T070000
END:STANDARD
BEGIN:DAYLIGHT
TZOFFSETFROM:-0600
TZOFFSETTO:-0500
TZNAME:CDT
DTSTART:20260308T080000
END:DAYLIGHT
BEGIN:STANDARD
TZOFFSETFROM:-0500
TZOFFSETTO:-0600
TZNAME:CST
DTSTART:20261101T070000
END:STANDARD
BEGIN:DAYLIGHT
TZOFFSETFROM:-0600
TZOFFSETTO:-0500
TZNAME:CDT
DTSTART:20270314T080000
END:DAYLIGHT
BEGIN:STANDARD
TZOFFSETFROM:-0500
TZOFFSETTO:-0600
TZNAME:CST
DTSTART:20271107T070000
END:STANDARD
END:VTIMEZONE
BEGIN:VEVENT
DTSTART;TZID=America/Chicago:20260212T160000
DTEND;TZID=America/Chicago:20260212T220000
DTSTAMP:20260419T144459
CREATED:20260115T174916Z
LAST-MODIFIED:20260203T173310Z
UID:5609-1770912000-1770933600@www.backpewbrewing.com
SUMMARY:Trivia Night at The Sanctuary
DESCRIPTION:💘🧠 VALENTINE’S TRIVIA NIGHT IS COMING TO BACK PEW! 🧠💘 \nWhether you’re madly in love\, happily single\, or somewhere in between\, join us on Thursday\, February 12th at 7PM for a special Valentine’s Trivia Night at Back Pew Brewing! \nExpect four fun rounds full of questions about all things red\, famous couples\, pop culture love stories\, and yes… there may even be an anti-love round for our single friends out there. 😏 Trivia is hosted by Graham\, free to play\, and teams of up to six are welcome. Prizes are on the line and bragging rights are always included. \nGrab your Valentine\, your best friends\, or your trivia dream team and come spend your Wednesday night with us. 🍻 \nFood truck: Charlie’s Food Truck \nTeacher Beer: Teachers get a free beer with the purchase of a Token Flight! \nCheck out the Taproom page for all of the info about the taproom.
URL:https://www.backpewbrewing.com/event/thursday-at-bpb-feb26-2/
LOCATION:Back Pew Brewing\, 26452 Sorters McClellan Rd.\, Porter\, TX\, 77365\, United States
CATEGORIES:Houston Event,taproom,taproom event
ATTACH;FMTTYPE=image/png:https://www.backpewbrewing.com/wp-content/uploads/2026/01/Valentines-Trivia-Post-1.png
END:VEVENT
END:VCALENDAR